BEGIN:VCALENDAR
VERSION:2.0
PRODID:-//eventon.com NONSGML v1.0//EN
CALSCALE:GREGORIAN
METHOD:PUBLISH
BEGIN:VEVENT
UID:69ebfff930d1d
DTSTAMP:20260424T234249Z
DTSTART:20230429T123000Z
DTEND:20230429T200000Z
LOCATION:
SUMMARY:Hospitality & Housing Summit
DESCRIPTION:Embracing Our Neighbors Hospitality and Housing Summit Saturday
 \,  April 29  |  Trinity Baptist\,  Raleigh &nbsp; Join us for the CBFNC 
 Hospitality and Housing Summit on April 29 at Trinity Baptist in Raleigh. T
 he summit serves as a call to embrace our neighbors as our friends by follo
 wing the best practices[..]\nhttps://cbfnc.org/events/hospitality-housing-s
 ummit/
URL:https://cbfnc.org/events/hospitality-housing-summit/
END:VEVENT
END:VCALENDAR