BEGIN:VCALENDAR
VERSION:2.0
PRODID:-//eventon.com NONSGML v1.0//EN
CALSCALE:GREGORIAN
METHOD:PUBLISH
BEGIN:VEVENT
UID:69e6afc2b0733
DTSTAMP:20260420T225914Z
DTSTART:20221022T130000Z
DTEND:20221022T160000Z
LOCATION:
SUMMARY:How to Have Courageous Conversations About Race in the Church & Beyond
DESCRIPTION:Saturday\,  Oct. 22  |  9 a.m. to Noon Greystone Baptist Chur
 ch\,  Raleigh 7509 Lead Mine Road Raleigh\,  North Carolina 27615 &nbsp; CB
 FNC&#8217;s Racial Equity &amp; Justice Ministry Team invites all churches 
 to join them for a fall forum: &#8220;How to Have Courageous Conversations 
 About Race in the Church and Beyond.&#8221;[..]\nhttps://cbfnc.org/events/h
 ow-to-have-courageous-conversations-about-race-in-the-church-beyond/
URL:https://cbfnc.org/events/how-to-have-courageous-conversations-about-race-in-the-church-beyond/
END:VEVENT
END:VCALENDAR